BEGIN:VCALENDAR
VERSION:2.0
PRODID:-//hacksw/handcal//NONSGML v1.0//EN
BEGIN:VEVENT
SUMMARY:Seances uniquement Mardi et Vendredi soir (19h15-21h15)
UID:fc1e8a13-ea75-49fe-8407-2d769695ef58
DTSTART:20260405T220000Z
DTEND:20260412T220000Z
LOCATION:Localisation   
CATEGORIES:Sportif
STATUS:
URL;VALUE=URI:https://cnhautjura.sportsregions.fr/evenements/2026/04/06/seances-uniquement-mardi-et-vendredi-soir-19h15-21h15-2435608
END:VEVENT
END:VCALENDAR
